BEGIN:VCALENDAR
VERSION:2.0
PRODID:-//hacksw/handcal//NONSGML v1.0//EN
CALSCALE:GREGORIAN
BEGIN:VEVENT
DTSTART:20230815T110000Z
DTEND:20230815T120000Z
UID:e26668
DTSTAMP:20260420T050135Z
LOCATION:Gerhard M.J. Schmidt Lecture Hall
DESCRIPTION:Intra-host evolution of HIV env after broadly-neutralizing antibody infusion
SUMMARY:Intra-host evolution of HIV env after broadly-neutralizing antibody infusion
END:VEVENT
END:VCALENDAR