BEGIN:VCALENDAR
VERSION:2.0
PRODID:-//hacksw/handcal//NONSGML v1.0//EN
CALSCALE:GREGORIAN
BEGIN:VEVENT
DTSTART:20231016T080000Z
DTEND:20231016T091500Z
UID:e26676
DTSTAMP:20260419T185534Z
LOCATION:Gerhard M.J. Schmidt Lecture Hall
DESCRIPTION:The Southern Lights — Rhodopsin Complexes Discovered in an Algae Near Antarctica Can Help Unravel the Secrets of the Brain
SUMMARY:The Southern Lights — Rhodopsin Complexes Discovered in an Algae Near Antarctica Can Help Unravel the Secrets of the Brain
END:VEVENT
END:VCALENDAR