BEGIN:VCALENDAR
VERSION:2.0
PRODID:-//hacksw/handcal//NONSGML v1.0//EN
CALSCALE:GREGORIAN
BEGIN:VEVENT
DTSTART:20231009T070000Z
DTEND:20231009T090000Z
UID:e26708
DTSTAMP:20260419T185317Z
LOCATION:Wolfson Building for Biological Research
DESCRIPTION:Joint Guest Seminar: Dr. Shira Weingarten-Gabbay
SUMMARY:Joint Guest Seminar: Dr. Shira Weingarten-Gabbay
END:VEVENT
END:VCALENDAR