BEGIN:VCALENDAR
VERSION:2.0
PRODID:-//hacksw/handcal//NONSGML v1.0//EN
CALSCALE:GREGORIAN
BEGIN:VEVENT
DTSTART:20230928T110000Z
DTEND:20230928T120000Z
UID:e26712
DTSTAMP:20260419T185614Z
LOCATION:Max and Lillian Candiotty Building
DESCRIPTION:Dissecting the immune-controlled signaling networks driving breast cancer progression 
SUMMARY:Dissecting the immune-controlled signaling networks driving breast cancer progression 
END:VEVENT
END:VCALENDAR