BEGIN:VCALENDAR
VERSION:2.0
PRODID:-//hacksw/handcal//NONSGML v1.0//EN
CALSCALE:GREGORIAN
BEGIN:VEVENT
DTSTART:20240314T110000Z
DTEND:20240314T120000Z
UID:e26750
DTSTAMP:20260422T182956Z
LOCATION:Max and Lillian Candiotty Building
DESCRIPTION:The roles of RNA processing in cancer initiation and progression and its modulation for cancer therapy 
SUMMARY:The roles of RNA processing in cancer initiation and progression and its modulation for cancer therapy 
END:VEVENT
END:VCALENDAR