BEGIN:VCALENDAR
VERSION:2.0
PRODID:-//hacksw/handcal//NONSGML v1.0//EN
CALSCALE:GREGORIAN
BEGIN:VEVENT
DTSTART:20230927T100000Z
DTEND:20230927T110000Z
UID:e26754
DTSTAMP:20260421T174041Z
LOCATION:Nella and Leon Benoziyo Building for Biological Sciences
DESCRIPTION:Environmental performance using lifecycle assessment (LCA) for decision making - examples from NZ and AU
SUMMARY:Environmental performance using lifecycle assessment (LCA) for decision making - examples from NZ and AU
END:VEVENT
END:VCALENDAR