BEGIN:VCALENDAR
VERSION:2.0
PRODID:-//hacksw/handcal//NONSGML v1.0//EN
CALSCALE:GREGORIAN
BEGIN:VEVENT
DTSTART:20240610T080000Z
DTEND:20240610T091500Z
UID:e26760
DTSTAMP:20260419T154155Z
LOCATION:Gerhard M.J. Schmidt Lecture Hall
DESCRIPTION:AI (R)Evolution in (Quantum) Chemistry and Physics
SUMMARY:AI (R)Evolution in (Quantum) Chemistry and Physics
END:VEVENT
END:VCALENDAR