BEGIN:VCALENDAR
VERSION:2.0
PRODID:-//hacksw/handcal//NONSGML v1.0//EN
CALSCALE:GREGORIAN
BEGIN:VEVENT
DTSTART:20231010T083000Z
DTEND:20231010T093000Z
UID:e26774
DTSTAMP:20260419T185609Z
LOCATION:Nella and Leon Benoziyo Building for Biological Sciences
DESCRIPTION:Roots\, Cell Types and their Integration with the Environment
SUMMARY:Roots\, Cell Types and their Integration with the Environment
END:VEVENT
END:VCALENDAR