BEGIN:VCALENDAR
VERSION:2.0
PRODID:-//hacksw/handcal//NONSGML v1.0//EN
CALSCALE:GREGORIAN
BEGIN:VEVENT
DTSTART:20231220T070000Z
DTEND:20231220T090000Z
UID:e26864
DTSTAMP:20260423T133022Z
LOCATION:Nella and Leon Benoziyo Building for Biological Sciences
DESCRIPTION:"Shedding light on the dark matter of viral proteomes to advance our understanding of antiviral immunity"
SUMMARY:"Shedding light on the dark matter of viral proteomes to advance our understanding of antiviral immunity"
END:VEVENT
END:VCALENDAR