BEGIN:VCALENDAR
VERSION:2.0
PRODID:-//hacksw/handcal//NONSGML v1.0//EN
CALSCALE:GREGORIAN
BEGIN:VEVENT
DTSTART:20231226T110000Z
DTEND:20231226T120000Z
UID:e26892
DTSTAMP:20260423T044709Z
LOCATION:Gerhard M.J. Schmidt Lecture Hall
DESCRIPTION:The structure of protein complexes underlies co-translational assembly
SUMMARY:The structure of protein complexes underlies co-translational assembly
END:VEVENT
END:VCALENDAR