BEGIN:VCALENDAR
VERSION:2.0
PRODID:-//hacksw/handcal//NONSGML v1.0//EN
CALSCALE:GREGORIAN
BEGIN:VEVENT
DTSTART:20240125T110000Z
DTEND:20240125T120000Z
UID:e26898
DTSTAMP:20260422T182632Z
LOCATION:Max and Lillian Candiotty Building
DESCRIPTION:p53: not just a cell-autonomous tumor suppressor
SUMMARY:p53: not just a cell-autonomous tumor suppressor
END:VEVENT
END:VCALENDAR