BEGIN:VCALENDAR
VERSION:2.0
PRODID:-//hacksw/handcal//NONSGML v1.0//EN
CALSCALE:GREGORIAN
BEGIN:VEVENT
DTSTART:20240104T103000Z
DTEND:20240104T113000Z
UID:e26936
DTSTAMP:20260422T124101Z
LOCATION:Jacob Ziskind Building
DESCRIPTION:Geometric Functional Analysis and Probability Seminar
SUMMARY:Geometric Functional Analysis and Probability Seminar
END:VEVENT
END:VCALENDAR