BEGIN:VCALENDAR
VERSION:2.0
PRODID:-//hacksw/handcal//NONSGML v1.0//EN
CALSCALE:GREGORIAN
BEGIN:VEVENT
DTSTART:20240121T080000Z
DTEND:20240121T093000Z
UID:e26942
DTSTAMP:20260422T204829Z
LOCATION:Jacob Ziskind Building
DESCRIPTION:Faculty Seminar
SUMMARY:Faculty Seminar
END:VEVENT
END:VCALENDAR