BEGIN:VCALENDAR
VERSION:2.0
PRODID:-//hacksw/handcal//NONSGML v1.0//EN
CALSCALE:GREGORIAN
BEGIN:VEVENT
DTSTART:20240125T120000Z
DTEND:20240125T130000Z
UID:e26964
DTSTAMP:20260422T182805Z
LOCATION:Nella and Leon Benoziyo Building for Biological Sciences
DESCRIPTION:The interplay of bulky DNA damages\, transcription and epigenetics
SUMMARY:The interplay of bulky DNA damages\, transcription and epigenetics
END:VEVENT
END:VCALENDAR