BEGIN:VCALENDAR
VERSION:2.0
PRODID:-//hacksw/handcal//NONSGML v1.0//EN
CALSCALE:GREGORIAN
BEGIN:VEVENT
DTSTART:20240118T091500Z
DTEND:20240118T101500Z
UID:e26968
DTSTAMP:20260422T204838Z
LOCATION:Jacob Ziskind Building
DESCRIPTION:Vision and AI
SUMMARY:Vision and AI
END:VEVENT
END:VCALENDAR