BEGIN:VCALENDAR
VERSION:2.0
PRODID:-//hacksw/handcal//NONSGML v1.0//EN
CALSCALE:GREGORIAN
BEGIN:VEVENT
DTSTART:20241204T050000Z
DTEND:20241204T050000Z
UID:e26988
DTSTAMP:20260421T180747Z
LOCATION:The David Lopatie Conference Centre
DESCRIPTION:Milestones in Chemistry\, Milestones in Life: A Symposium in Honour of Prof. Gershom (Jan M. L.) Martin
SUMMARY:Milestones in Chemistry\, Milestones in Life: A Symposium in Honour of Prof. Gershom (Jan M. L.) Martin
END:VEVENT
END:VCALENDAR