BEGIN:VCALENDAR
VERSION:2.0
PRODID:-//hacksw/handcal//NONSGML v1.0//EN
CALSCALE:GREGORIAN
BEGIN:VEVENT
DTSTART:20240125T091500Z
DTEND:20240125T101500Z
UID:e27000
DTSTAMP:20260422T204949Z
LOCATION:Jacob Ziskind Building
DESCRIPTION:Vision and AI
SUMMARY:Vision and AI
END:VEVENT
END:VCALENDAR