BEGIN:VCALENDAR
VERSION:2.0
PRODID:-//hacksw/handcal//NONSGML v1.0//EN
CALSCALE:GREGORIAN
BEGIN:VEVENT
DTSTART:20240130T070000Z
DTEND:20240130T080000Z
UID:e27010
DTSTAMP:20260422T204838Z
LOCATION:Nella and Leon Benoziyo Building for Biological Sciences
DESCRIPTION:The impact of gene amplification on cellular physiology and cell-cell interactions
SUMMARY:The impact of gene amplification on cellular physiology and cell-cell interactions
END:VEVENT
END:VCALENDAR