BEGIN:VCALENDAR
VERSION:2.0
PRODID:-//hacksw/handcal//NONSGML v1.0//EN
CALSCALE:GREGORIAN
BEGIN:VEVENT
DTSTART:20240208T120000Z
DTEND:20240208T130000Z
UID:e27012
DTSTAMP:20260419T182153Z
LOCATION:Nella and Leon Benoziyo Building for Biological Sciences
DESCRIPTION:The Language of Bacterial Pathogens\, Commensals\, and Biomedical Potentials
SUMMARY:The Language of Bacterial Pathogens\, Commensals\, and Biomedical Potentials
END:VEVENT
END:VCALENDAR