BEGIN:VCALENDAR
VERSION:2.0
PRODID:-//hacksw/handcal//NONSGML v1.0//EN
CALSCALE:GREGORIAN
BEGIN:VEVENT
DTSTART:20240211T063000Z
DTEND:20240211T073000Z
UID:e27018
DTSTAMP:20260419T182112Z
LOCATION:Nella and Leon Benoziyo Building for Biological Sciences
DESCRIPTION:Special Guest Seminar: Dr. Nir Ben Chetrit 
SUMMARY:Special Guest Seminar: Dr. Nir Ben Chetrit 
END:VEVENT
END:VCALENDAR