BEGIN:VCALENDAR
VERSION:2.0
PRODID:-//hacksw/handcal//NONSGML v1.0//EN
CALSCALE:GREGORIAN
BEGIN:VEVENT
DTSTART:20240214T070000Z
DTEND:20240214T080000Z
UID:e27022
DTSTAMP:20260419T182246Z
LOCATION:Arthur and Rochelle Belfer Building for Biomedical Research
DESCRIPTION:Ironing out the details of mitochondrial translation
SUMMARY:Ironing out the details of mitochondrial translation
END:VEVENT
END:VCALENDAR