BEGIN:VCALENDAR
VERSION:2.0
PRODID:-//hacksw/handcal//NONSGML v1.0//EN
CALSCALE:GREGORIAN
BEGIN:VEVENT
DTSTART:20240225T080000Z
DTEND:20240225T080000Z
UID:e27040
DTSTAMP:20260422T204951Z
LOCATION:Sussman Family Building for Environmental Sciences
DESCRIPTION:EPS Departmental Seminar\; Challenges and opportunities in global storm resolving climate models
SUMMARY:EPS Departmental Seminar\; Challenges and opportunities in global storm resolving climate models
END:VEVENT
END:VCALENDAR