BEGIN:VCALENDAR
VERSION:2.0
PRODID:-//hacksw/handcal//NONSGML v1.0//EN
CALSCALE:GREGORIAN
BEGIN:VEVENT
DTSTART:20240321T110000Z
DTEND:20240321T120000Z
UID:e27054
DTSTAMP:20260422T091125Z
LOCATION:Gerhard M.J. Schmidt Lecture Hall
DESCRIPTION:Chemistry and the Information beyond the Genome Sequence 
SUMMARY:Chemistry and the Information beyond the Genome Sequence 
END:VEVENT
END:VCALENDAR