BEGIN:VCALENDAR
VERSION:2.0
PRODID:-//hacksw/handcal//NONSGML v1.0//EN
CALSCALE:GREGORIAN
BEGIN:VEVENT
DTSTART:20240325T130000Z
DTEND:20240325T130000Z
UID:e27074
DTSTAMP:20260422T091119Z
LOCATION:
DESCRIPTION:EPS AI discussion seminar - Neural General Circulation Models for weather and climate predictions
SUMMARY:EPS AI discussion seminar - Neural General Circulation Models for weather and climate predictions
END:VEVENT
END:VCALENDAR