BEGIN:VCALENDAR
VERSION:2.0
PRODID:-//hacksw/handcal//NONSGML v1.0//EN
CALSCALE:GREGORIAN
BEGIN:VEVENT
DTSTART:20240319T110000Z
DTEND:20240319T120000Z
UID:e27080
DTSTAMP:20260422T091137Z
LOCATION:Gerhard M.J. Schmidt Lecture Hall
DESCRIPTION:New approaches to glycan synthesis and glycan-based biosensing 
SUMMARY:New approaches to glycan synthesis and glycan-based biosensing 
END:VEVENT
END:VCALENDAR