BEGIN:VCALENDAR
VERSION:2.0
PRODID:-//hacksw/handcal//NONSGML v1.0//EN
CALSCALE:GREGORIAN
BEGIN:VEVENT
DTSTART:20240211T101500Z
DTEND:20240211T113000Z
UID:e27088
DTSTAMP:20260420T050215Z
LOCATION:Edna and K.B. Weissman Building of Physical Sciences
DESCRIPTION:The Clore Center for Biological Physics
SUMMARY:The Clore Center for Biological Physics
END:VEVENT
END:VCALENDAR