BEGIN:VCALENDAR
VERSION:2.0
PRODID:-//hacksw/handcal//NONSGML v1.0//EN
CALSCALE:GREGORIAN
BEGIN:VEVENT
DTSTART:20240214T110000Z
DTEND:20240214T120000Z
UID:e27098
DTSTAMP:20260419T182233Z
LOCATION:The David Lopatie Hall of Graduate Studies
DESCRIPTION:The role of the corpus callosum in interhemispheric communication
SUMMARY:The role of the corpus callosum in interhemispheric communication
END:VEVENT
END:VCALENDAR