BEGIN:VCALENDAR
VERSION:2.0
PRODID:-//hacksw/handcal//NONSGML v1.0//EN
CALSCALE:GREGORIAN
BEGIN:VEVENT
DTSTART:20240321T120000Z
DTEND:20240321T130000Z
UID:e27114
DTSTAMP:20260422T091130Z
LOCATION:Nella and Leon Benoziyo Building for Biological Sciences
DESCRIPTION:Allosteric modulation of protein kinase A in individuals affected by NLPD-PKA \, a neurodegenerative disease in which the RIß-L50R variant is expressed
SUMMARY:Allosteric modulation of protein kinase A in individuals affected by NLPD-PKA \, a neurodegenerative disease in which the RIß-L50R variant is expressed
END:VEVENT
END:VCALENDAR