BEGIN:VCALENDAR
VERSION:2.0
PRODID:-//hacksw/handcal//NONSGML v1.0//EN
CALSCALE:GREGORIAN
BEGIN:VEVENT
DTSTART:20240318T080000Z
DTEND:20240318T091500Z
UID:e27122
DTSTAMP:20260422T091149Z
LOCATION:Gerhard M.J. Schmidt Lecture Hall
DESCRIPTION:Atom-Probe Tomography and its Myriad Applications in Chemistry
SUMMARY:Atom-Probe Tomography and its Myriad Applications in Chemistry
END:VEVENT
END:VCALENDAR