BEGIN:VCALENDAR
VERSION:2.0
PRODID:-//hacksw/handcal//NONSGML v1.0//EN
CALSCALE:GREGORIAN
BEGIN:VEVENT
DTSTART:20240319T060000Z
DTEND:20240319T070000Z
UID:e27138
DTSTAMP:20260422T091129Z
LOCATION:Max and Lillian Candiotty Building
DESCRIPTION:iSCAR Breakfast Seminar
SUMMARY:iSCAR Breakfast Seminar
END:VEVENT
END:VCALENDAR