BEGIN:VCALENDAR
VERSION:2.0
PRODID:-//hacksw/handcal//NONSGML v1.0//EN
CALSCALE:GREGORIAN
BEGIN:VEVENT
DTSTART:20240325T050000Z
DTEND:20240325T050000Z
UID:e27144
DTSTAMP:20260422T091134Z
LOCATION:The David Lopatie Conference Centre
DESCRIPTION:Mindâ€¦ The Science
SUMMARY:Mindâ€¦ The Science
END:VEVENT
END:VCALENDAR