BEGIN:VCALENDAR
VERSION:2.0
PRODID:-//hacksw/handcal//NONSGML v1.0//EN
CALSCALE:GREGORIAN
BEGIN:VEVENT
DTSTART:20240320T080000Z
DTEND:20240320T090000Z
UID:e27156
DTSTAMP:20260422T091139Z
LOCATION:Perlman Chemical Sciences Building
DESCRIPTION:Employing the Hegelian Aufhebung Principle for Predicting New Catalytic Pathways
SUMMARY:Employing the Hegelian Aufhebung Principle for Predicting New Catalytic Pathways
END:VEVENT
END:VCALENDAR