BEGIN:VCALENDAR
VERSION:2.0
PRODID:-//hacksw/handcal//NONSGML v1.0//EN
CALSCALE:GREGORIAN
BEGIN:VEVENT
DTSTART:20240327T080000Z
DTEND:20240327T090000Z
UID:e27198
DTSTAMP:20260423T044659Z
LOCATION:Perlman Chemical Sciences Building
DESCRIPTION:Exploring Inorganic and Organic Biomass for generation of Fuels and Chemical Commodities
SUMMARY:Exploring Inorganic and Organic Biomass for generation of Fuels and Chemical Commodities
END:VEVENT
END:VCALENDAR