BEGIN:VCALENDAR
VERSION:2.0
PRODID:-//hacksw/handcal//NONSGML v1.0//EN
CALSCALE:GREGORIAN
BEGIN:VEVENT
DTSTART:20240506T080000Z
DTEND:20240506T091500Z
UID:e27206
DTSTAMP:20260420T194143Z
LOCATION:Gerhard M.J. Schmidt Lecture Hall
DESCRIPTION:Harnessing Crystal Defects to Tailor Bio-Inspired and Classical Materials
SUMMARY:Harnessing Crystal Defects to Tailor Bio-Inspired and Classical Materials
END:VEVENT
END:VCALENDAR