BEGIN:VCALENDAR
VERSION:2.0
PRODID:-//hacksw/handcal//NONSGML v1.0//EN
CALSCALE:GREGORIAN
BEGIN:VEVENT
DTSTART:20240619T090000Z
DTEND:20240619T110000Z
UID:e27214
DTSTAMP:20260423T094141Z
LOCATION:Nella and Leon Benoziyo Building for Biological Sciences
DESCRIPTION:LS Luncheon
SUMMARY:LS Luncheon
END:VEVENT
END:VCALENDAR