BEGIN:VCALENDAR
VERSION:2.0
PRODID:-//hacksw/handcal//NONSGML v1.0//EN
CALSCALE:GREGORIAN
BEGIN:VEVENT
DTSTART:20240410T080000Z
DTEND:20240410T091500Z
UID:e27216
DTSTAMP:20260422T091127Z
LOCATION:Gerhard M.J. Schmidt Lecture Hall
DESCRIPTION:Chemical Exfoliation of Quantum Materials
SUMMARY:Chemical Exfoliation of Quantum Materials
END:VEVENT
END:VCALENDAR