BEGIN:VCALENDAR
VERSION:2.0
PRODID:-//hacksw/handcal//NONSGML v1.0//EN
CALSCALE:GREGORIAN
BEGIN:VEVENT
DTSTART:20240409T110000Z
DTEND:20240409T120000Z
UID:e27240
DTSTAMP:20260422T091119Z
LOCATION:Gerhard M.J. Schmidt Lecture Hall
DESCRIPTION:What Funga can teach us about DNA repair 
SUMMARY:What Funga can teach us about DNA repair 
END:VEVENT
END:VCALENDAR