BEGIN:VCALENDAR
VERSION:2.0
PRODID:-//hacksw/handcal//NONSGML v1.0//EN
CALSCALE:GREGORIAN
BEGIN:VEVENT
DTSTART:20240508T060000Z
DTEND:20240508T120000Z
UID:e27326
DTSTAMP:20260420T194319Z
LOCATION:The David Lopatie Conference Centre
DESCRIPTION:Systems Aging - A Sagol Center for Longevity Meeting
SUMMARY:Systems Aging - A Sagol Center for Longevity Meeting
END:VEVENT
END:VCALENDAR