BEGIN:VCALENDAR
VERSION:2.0
PRODID:-//hacksw/handcal//NONSGML v1.0//EN
CALSCALE:GREGORIAN
BEGIN:VEVENT
DTSTART:20240606T110000Z
DTEND:20240606T120000Z
UID:e27332
DTSTAMP:20260419T140655Z
LOCATION:Max and Lillian Candiotty Building
DESCRIPTION:Insights from germline and somatic replication repair deficiency on cancer initiation and immunotherapy
SUMMARY:Insights from germline and somatic replication repair deficiency on cancer initiation and immunotherapy
END:VEVENT
END:VCALENDAR