BEGIN:VCALENDAR
VERSION:2.0
PRODID:-//hacksw/handcal//NONSGML v1.0//EN
CALSCALE:GREGORIAN
BEGIN:VEVENT
DTSTART:20240506T100000Z
DTEND:20240506T110000Z
UID:e27336
DTSTAMP:20260420T194256Z
LOCATION:Jacob Ziskind Building
DESCRIPTION:Foundations of Computer Science Seminar
SUMMARY:Foundations of Computer Science Seminar
END:VEVENT
END:VCALENDAR