BEGIN:VCALENDAR
VERSION:2.0
PRODID:-//hacksw/handcal//NONSGML v1.0//EN
CALSCALE:GREGORIAN
BEGIN:VEVENT
DTSTART:20240508T110000Z
DTEND:20240508T123000Z
UID:e27338
DTSTAMP:20260421T051359Z
LOCATION:George and Esther Sagan Students' Residence Hall
DESCRIPTION:ABC CHATS - Dr. Irit Carmi-Levy
SUMMARY:ABC CHATS - Dr. Irit Carmi-Levy
END:VEVENT
END:VCALENDAR