BEGIN:VCALENDAR
VERSION:2.0
PRODID:-//hacksw/handcal//NONSGML v1.0//EN
CALSCALE:GREGORIAN
BEGIN:VEVENT
DTSTART:20240507T080000Z
DTEND:20240507T080000Z
UID:e27350
DTSTAMP:20260421T051347Z
LOCATION:Sussman Family Building for Environmental Sciences
DESCRIPTION:Data Drought in the Humid Tropics: How to Overcome the Cloud Barrier in Greenhouse Gas Remote Sensing
SUMMARY:Data Drought in the Humid Tropics: How to Overcome the Cloud Barrier in Greenhouse Gas Remote Sensing
END:VEVENT
END:VCALENDAR