BEGIN:VCALENDAR
VERSION:2.0
PRODID:-//hacksw/handcal//NONSGML v1.0//EN
CALSCALE:GREGORIAN
BEGIN:VEVENT
DTSTART:20240626T100000Z
DTEND:20240626T110000Z
UID:e27366
DTSTAMP:20260423T065748Z
LOCATION:Max and Lillian Candiotty Building
DESCRIPTION:Spotlight on Science
SUMMARY:Spotlight on Science
END:VEVENT
END:VCALENDAR