BEGIN:VCALENDAR
VERSION:2.0
PRODID:-//hacksw/handcal//NONSGML v1.0//EN
CALSCALE:GREGORIAN
BEGIN:VEVENT
DTSTART:20240520T080000Z
DTEND:20240520T090000Z
UID:e27372
DTSTAMP:20260423T054007Z
LOCATION:Dolfi and Lola Ebner Auditorium
DESCRIPTION:Special Guest Seminar 
SUMMARY:Special Guest Seminar 
END:VEVENT
END:VCALENDAR