BEGIN:VCALENDAR
VERSION:2.0
PRODID:-//hacksw/handcal//NONSGML v1.0//EN
CALSCALE:GREGORIAN
BEGIN:VEVENT
DTSTART:20240519T080000Z
DTEND:20240519T080000Z
UID:e27388
DTSTAMP:20260423T094127Z
LOCATION:Sussman Family Building for Environmental Sciences
DESCRIPTION:Floods in a warming climate: what are the missing puzzle pieces?
SUMMARY:Floods in a warming climate: what are the missing puzzle pieces?
END:VEVENT
END:VCALENDAR