BEGIN:VCALENDAR
VERSION:2.0
PRODID:-//hacksw/handcal//NONSGML v1.0//EN
CALSCALE:GREGORIAN
BEGIN:VEVENT
DTSTART:20240618T070000Z
DTEND:20240618T080000Z
UID:e27398
DTSTAMP:20260423T135837Z
LOCATION:Nella and Leon Benoziyo Building for Biological Sciences
DESCRIPTION:From the lab to the clinic: A toolbox for single-molecule epigenetic analysis of DNA
SUMMARY:From the lab to the clinic: A toolbox for single-molecule epigenetic analysis of DNA
END:VEVENT
END:VCALENDAR