BEGIN:VCALENDAR
VERSION:2.0
PRODID:-//hacksw/handcal//NONSGML v1.0//EN
CALSCALE:GREGORIAN
BEGIN:VEVENT
DTSTART:20240625T070000Z
DTEND:20240625T083000Z
UID:e27400
DTSTAMP:20260423T053255Z
LOCATION:Nella and Leon Benoziyo Building for Biological Sciences
DESCRIPTION:Mechano-regulation of gene expression in striated muscle
SUMMARY:Mechano-regulation of gene expression in striated muscle
END:VEVENT
END:VCALENDAR