BEGIN:VCALENDAR
VERSION:2.0
PRODID:-//hacksw/handcal//NONSGML v1.0//EN
CALSCALE:GREGORIAN
BEGIN:VEVENT
DTSTART:20240616T100000Z
DTEND:20240616T110000Z
UID:e27414
DTSTAMP:20260423T135847Z
LOCATION:
DESCRIPTION:Plan A+ - How geoengineering using stratospheric aerosols could play a role in climate policy
SUMMARY:Plan A+ - How geoengineering using stratospheric aerosols could play a role in climate policy
END:VEVENT
END:VCALENDAR