BEGIN:VCALENDAR
VERSION:2.0
PRODID:-//hacksw/handcal//NONSGML v1.0//EN
CALSCALE:GREGORIAN
BEGIN:VEVENT
DTSTART:20240711T120000Z
DTEND:20240711T130000Z
UID:e27454
DTSTAMP:20260422T120918Z
LOCATION:Nella and Leon Benoziyo Building for Biological Sciences
DESCRIPTION:To be announced
SUMMARY:To be announced
END:VEVENT
END:VCALENDAR