BEGIN:VCALENDAR
VERSION:2.0
PRODID:-//hacksw/handcal//NONSGML v1.0//EN
CALSCALE:GREGORIAN
BEGIN:VEVENT
DTSTART:20240613T113000Z
DTEND:20240613T113000Z
UID:e27462
DTSTAMP:20260421T051428Z
LOCATION:Gerhard M.J. Schmidt Lecture Hall
DESCRIPTION:Elucidating convergence and divergence of neural mechanisms: from genes to behavior
SUMMARY:Elucidating convergence and divergence of neural mechanisms: from genes to behavior
END:VEVENT
END:VCALENDAR